BEGIN:VCALENDAR
VERSION:2.0
PRODID:-//logix-award - ECPv6.15.18//NONSGML v1.0//EN
CALSCALE:GREGORIAN
METHOD:PUBLISH
X-ORIGINAL-URL:https://logix-award.de
X-WR-CALDESC:Veranstaltungen für logix-award
REFRESH-INTERVAL;VALUE=DURATION:PT1H
X-Robots-Tag:noindex
X-PUBLISHED-TTL:PT1H
BEGIN:VTIMEZONE
TZID:Europe/Berlin
BEGIN:DAYLIGHT
TZOFFSETFROM:+0100
TZOFFSETTO:+0200
TZNAME:CEST
DTSTART:20240331T010000
END:DAYLIGHT
BEGIN:STANDARD
TZOFFSETFROM:+0200
TZOFFSETTO:+0100
TZNAME:CET
DTSTART:20241027T010000
END:STANDARD
BEGIN:DAYLIGHT
TZOFFSETFROM:+0100
TZOFFSETTO:+0200
TZNAME:CEST
DTSTART:20250330T010000
END:DAYLIGHT
BEGIN:STANDARD
TZOFFSETFROM:+0200
TZOFFSETTO:+0100
TZNAME:CET
DTSTART:20251026T010000
END:STANDARD
BEGIN:DAYLIGHT
TZOFFSETFROM:+0100
TZOFFSETTO:+0200
TZNAME:CEST
DTSTART:20260329T010000
END:DAYLIGHT
BEGIN:STANDARD
TZOFFSETFROM:+0200
TZOFFSETTO:+0100
TZNAME:CET
DTSTART:20261025T010000
END:STANDARD
BEGIN:DAYLIGHT
TZOFFSETFROM:+0100
TZOFFSETTO:+0200
TZNAME:CEST
DTSTART:20270328T010000
END:DAYLIGHT
BEGIN:STANDARD
TZOFFSETFROM:+0200
TZOFFSETTO:+0100
TZNAME:CET
DTSTART:20271031T010000
END:STANDARD
END:VTIMEZONE
BEGIN:VEVENT
DTSTART;VALUE=DATE:20260414
DTEND;VALUE=DATE:20260415
DTSTAMP:20260421T132934
CREATED:20241210T131939Z
LAST-MODIFIED:20260108T142046Z
UID:37829-1776124800-1776211199@logix-award.de
SUMMARY:Ramp One
DESCRIPTION:
URL:https://logix-award.de/event/veranstaltung-ramp-one/
LOCATION:Ham­burg
END:VEVENT
BEGIN:VEVENT
DTSTART;VALUE=DATE:20260127
DTEND;VALUE=DATE:20260128
DTSTAMP:20260421T132934
CREATED:20241210T131745Z
LAST-MODIFIED:20260227T150832Z
UID:37826-1769472000-1769558399@logix-award.de
SUMMARY:Euroforum Jahrestagung
DESCRIPTION:
URL:https://logix-award.de/event/veranstaltung-euroforum/
LOCATION:Euro­fo­rum Jahrestagung\, München
END:VEVENT
BEGIN:VEVENT
DTSTART;VALUE=DATE:20250624
DTEND;VALUE=DATE:20250626
DTSTAMP:20260421T132934
CREATED:20241210T132414Z
LAST-MODIFIED:20250115T123730Z
UID:37840-1750723200-1750895999@logix-award.de
SUMMARY:Deutscher Logistikimmobilien-Kongress
DESCRIPTION:
URL:https://logix-award.de/event/veranstaltung-deutscher-logistikimmobilien-kongress/
LOCATION:Deut­scher Logistikimmobilien-Kongress\, Frankfurt am Main
END:VEVENT
BEGIN:VEVENT
DTSTART;TZID=Europe/Berlin:20250604T113000
DTEND;TZID=Europe/Berlin:20250604T123000
DTSTAMP:20260421T132934
CREATED:20250115T124549Z
LAST-MODIFIED:20250115T124549Z
UID:38136-1749036600-1749040200@logix-award.de
SUMMARY:Forum transport logistic - Logistikimmobilien: Energie als Akzeptanzhebel für Kommunen?
DESCRIPTION:
URL:https://logix-award.de/event/forum-transport-logistic-logistikimmobilien-energie-als-akzeptanzhebel-fuer-kommunen/
LOCATION:Messe Mün­chen\, Forum A2
END:VEVENT
BEGIN:VEVENT
DTSTART;VALUE=DATE:20250604
DTEND;VALUE=DATE:20250605
DTSTAMP:20260421T132934
CREATED:20241210T132302Z
LAST-MODIFIED:20250115T123747Z
UID:37836-1748995200-1749081599@logix-award.de
SUMMARY:Tag der Immobilienwirtschaft
DESCRIPTION:
URL:https://logix-award.de/event/veranstaltung-tag-der-immobilienwirtschaft/
LOCATION:Tag der Immo­bi­li­en­wirt­schaft  (ZIA)\, Berlin
END:VEVENT
BEGIN:VEVENT
DTSTART;VALUE=DATE:20250602
DTEND;VALUE=DATE:20250606
DTSTAMP:20260421T132934
CREATED:20250115T124237Z
LAST-MODIFIED:20250115T124237Z
UID:38133-1748822400-1749167999@logix-award.de
SUMMARY:transport logistic
DESCRIPTION:
URL:https://logix-award.de/event/transport-logistic/
LOCATION:Messe Mün­chen
END:VEVENT
BEGIN:VEVENT
DTSTART;VALUE=DATE:20250602
DTEND;VALUE=DATE:20250604
DTSTAMP:20260421T132934
CREATED:20241210T132124Z
LAST-MODIFIED:20250115T123923Z
UID:37832-1748822400-1748995199@logix-award.de
SUMMARY:Deutscher Kommunalkongress
DESCRIPTION:
URL:https://logix-award.de/event/veranstaltung-dstgb/
LOCATION:Ber­lin
END:VEVENT
BEGIN:VEVENT
DTSTART;TZID=Europe/Berlin:20250508T120000
DTEND;TZID=Europe/Berlin:20250509T150000
DTSTAMP:20260421T132934
CREATED:20250115T123614Z
LAST-MODIFIED:20250312T082335Z
UID:38115-1746705600-1746802800@logix-award.de
SUMMARY:Logix Club
DESCRIPTION:
URL:https://logix-award.de/event/logix-club/
LOCATION:Dres­den\, Dresden\, Germany
END:VEVENT
END:VCALENDAR